BEGIN:VCALENDAR
VERSION:2.0
PRODID:-//The Drovers Arms Restaurant &amp; Country Pub - ECPv6.15.20//NONSGML v1.0//EN
CALSCALE:GREGORIAN
METHOD:PUBLISH
X-WR-CALNAME:The Drovers Arms Restaurant &amp; Country Pub
X-ORIGINAL-URL:https://www.thedroversarmsskipwith.com
X-WR-CALDESC:Events for The Drovers Arms Restaurant &amp; Country Pub
REFRESH-INTERVAL;VALUE=DURATION:PT1H
X-Robots-Tag:noindex
X-PUBLISHED-TTL:PT1H
BEGIN:VTIMEZONE
TZID:Europe/London
BEGIN:DAYLIGHT
TZOFFSETFROM:+0000
TZOFFSETTO:+0100
TZNAME:BST
DTSTART:20240331T010000
END:DAYLIGHT
BEGIN:STANDARD
TZOFFSETFROM:+0100
TZOFFSETTO:+0000
TZNAME:GMT
DTSTART:20241027T010000
END:STANDARD
BEGIN:DAYLIGHT
TZOFFSETFROM:+0000
TZOFFSETTO:+0100
TZNAME:BST
DTSTART:20250330T010000
END:DAYLIGHT
BEGIN:STANDARD
TZOFFSETFROM:+0100
TZOFFSETTO:+0000
TZNAME:GMT
DTSTART:20251026T010000
END:STANDARD
BEGIN:DAYLIGHT
TZOFFSETFROM:+0000
TZOFFSETTO:+0100
TZNAME:BST
DTSTART:20260329T010000
END:DAYLIGHT
BEGIN:STANDARD
TZOFFSETFROM:+0100
TZOFFSETTO:+0000
TZNAME:GMT
DTSTART:20261025T010000
END:STANDARD
END:VTIMEZONE
BEGIN:VEVENT
DTSTART;TZID=Europe/London:20251224T120000
DTEND;TZID=Europe/London:20251224T230000
DTSTAMP:20260421T113540
CREATED:20250919T155353Z
LAST-MODIFIED:20250925T213802Z
UID:1601-1766577600-1766617200@www.thedroversarmsskipwith.com
SUMMARY:Christmas Eve 2025
DESCRIPTION:Food served from 12:00pm · Bar open until 11:00pm \nDining Times \n 12.00pm – 4.45pm: Full à la carte menu \n 5.00pm – 8.30pm: Special Christmas Eve Set Menu: HERE– 2 Courses £38 (children under 12 – £20)– 3 Courses £46 (children under 12 – £25) \nBar Open: 12.00pm – 11.00pm \nSoak up the festive atmosphere with friends and family before the big day\, and let us take care of the food\, drink\, and feel-good vibes. \nBooking Information \nTo secure your reservation\, card details are required at the time of booking. A 7-day cancellation policy applies for all festive dining reservations. Cancellations or reductions in numbers made after this time will be charged in full. \nTo book your table or discuss any specific requirements with our team.
URL:https://www.thedroversarmsskipwith.com/event/christmas-eve-2025/
LOCATION:The Drovers Arms\, The Drovers Arms\, York Rd\, Selby\, North Yorkshire\, YO8 5SF\, United Kingdom
CATEGORIES:Christmas,Events,Featured
ATTACH;FMTTYPE=image/jpeg:https://www.thedroversarmsskipwith.com/wp-content/uploads/2025/09/Christmas-Eve-2025.jpg
END:VEVENT
END:VCALENDAR