BEGIN:VCALENDAR
VERSION:2.0
PRODID:-//The Drovers Arms Restaurant &amp; Country Pub - ECPv6.15.20//NONSGML v1.0//EN
CALSCALE:GREGORIAN
METHOD:PUBLISH
X-WR-CALNAME:The Drovers Arms Restaurant &amp; Country Pub
X-ORIGINAL-URL:https://www.thedroversarmsskipwith.com
X-WR-CALDESC:Events for The Drovers Arms Restaurant &amp; Country Pub
REFRESH-INTERVAL;VALUE=DURATION:PT1H
X-Robots-Tag:noindex
X-PUBLISHED-TTL:PT1H
BEGIN:VTIMEZONE
TZID:Europe/London
BEGIN:DAYLIGHT
TZOFFSETFROM:+0000
TZOFFSETTO:+0100
TZNAME:BST
DTSTART:20240331T010000
END:DAYLIGHT
BEGIN:STANDARD
TZOFFSETFROM:+0100
TZOFFSETTO:+0000
TZNAME:GMT
DTSTART:20241027T010000
END:STANDARD
BEGIN:DAYLIGHT
TZOFFSETFROM:+0000
TZOFFSETTO:+0100
TZNAME:BST
DTSTART:20250330T010000
END:DAYLIGHT
BEGIN:STANDARD
TZOFFSETFROM:+0100
TZOFFSETTO:+0000
TZNAME:GMT
DTSTART:20251026T010000
END:STANDARD
BEGIN:DAYLIGHT
TZOFFSETFROM:+0000
TZOFFSETTO:+0100
TZNAME:BST
DTSTART:20260329T010000
END:DAYLIGHT
BEGIN:STANDARD
TZOFFSETFROM:+0100
TZOFFSETTO:+0000
TZNAME:GMT
DTSTART:20261025T010000
END:STANDARD
END:VTIMEZONE
BEGIN:VEVENT
DTSTART;TZID=Europe/London:20250918T120000
DTEND;TZID=Europe/London:20250918T120000
DTSTAMP:20260421T122038
CREATED:20250428T143227Z
LAST-MODIFIED:20251118T163312Z
UID:562-1758196800-1758196800@www.thedroversarmsskipwith.com
SUMMARY:York Food Festival
DESCRIPTION:Around 70 Streetfood and Produce stands will take over Parliament Street with a broad range of treats to enjoy. \nOur Entertainment Marquee on Parliament Street will have a diverse range of drinks to enjoy\, as well as hosting Live for St Leonard’s Hospice to give a great soundtrack to the event. \nSt Sampson’s Square will feature more live music as well as opportunities to eat and drink. \nSt Crux Hall at the bottom of The Shambles will be another festival destination as it has in previous years. You’ll find demonstrations\, events\, tastings\, and sampling here. \nDemonstrators this year will include Minal from the renowned Prashad near Bradford\, Neil Bentinck from the much-awarded Skosh. Great British Menu participant Ahmed Abdalla\, who is head chef for Legacy at The Grand\, will be joined by his Executive-Chef colleague Kevin Bonella\, and Head Pastry Chef Devin Jones will make an appearance later in the event. \nWe’ll have two Taste Trails to get tickets for this year that will each feature around 20 destinations to pick up samples around the centre of York. These remain priced at £10. \nWeekends will feature the opportunity to get hands-on in St Crux and Museum Gardens with our Food Factory\, which also provides around a thousand places for Key Stage 2 school children as well as Girlguiding and Scout groups. \nEvents to snap up tickets for will include a refugee pop-up restaurant night from Yahala Mataam\, who will also be hosting a one-day cookery school\, as well as Tang who are making their debut at the festival. With a strong connection to Food Circle\, this is bound to be a sell-out. Returning too is also our annual Pork Pie competition hosted in the stunning Bedern Hall. Curry & Comedy will be served in the National Centre for Early Music and keep an eye out for events with a historic twist from Jorvik Viking Centre \nTickets for our “Meet the Makers” drinks fair on Saturday\, 27th September\, will be one to pick up tickets for with a range of Yorkshire drinks producers all present\, complete with sampling\, chat\, and the opportunity to make purchases. \nWe’re proud to showcase a range of Yorkshire products on our Yorkshire Stand on Parliament Street. Call by to pick up some delicious treats and keep an eye out for sampling sessions with producers. \nWe’re passionate about making sure people know Hospitality is a diverse and rewarding industry with a broad range of career paths. Pop by St Crux Hall on Friday\, 26th September\, from 4pm-7pm to chat to industry professionals and hear about the opportunities they’ve had. \nWe have plenty more to come\, so keep an eye on the website for a full programme reveal in the coming weeks!
URL:https://www.thedroversarmsskipwith.com/event/york-food-festival-2026/
LOCATION:The Drovers Arms\, The Drovers Arms\, York Rd\, Selby\, North Yorkshire\, YO8 5SF\, United Kingdom
CATEGORIES:Events,Featured
ATTACH;FMTTYPE=image/jpeg:https://www.thedroversarmsskipwith.com/wp-content/uploads/2025/04/York-Food-Festival-2026.jpg
END:VEVENT
END:VCALENDAR